BEGIN:VCALENDAR
VERSION:2.0
PRODID:http://www.sankt-christophorus-bostalsee.de
BEGIN:VEVENT
UID:9e272a5d-1201-11f1-8342-0242ac11002b-1779555600000-de
DTSTAMP:20260225T042238Z
DTSTART:20260523T170000Z
DTEND:20260523T174500Z
SUMMARY;LANGUAGE=de: Wort-Gottes-Feier mitgest. vom Kirchenchor Eiweiler 
END:VEVENT
END:VCALENDAR
